BEGIN:VCALENDAR
VERSION:2.0
PRODID:icalendar-ruby
CALSCALE:GREGORIAN
METHOD:PUBLISH
BEGIN:VEVENT
DTSTAMP:20260425T013420Z
UID:53-354622@cornerstoneseagrove.com
DTSTART:20261004T144500Z
DTEND:20261004T160000Z
CLASS:PUBLIC
CREATED:20260424T210658
DESCRIPTION:
LAST-MODIFIED:20260424T210658
LOCATION:
SUMMARY:Worship Gathering\, Cornerstone Kids\, & Nursery
URL;VALUE=URI:https://www.cornerstoneseagrove.com/events/worship-gathering-
 cornerstone-kids-nursery/2026-10-04
ATTACH;FILENAME=Untitled design (5).png;FMTTYPE=image/png:https://dq5pwpg1q
 8ru0.cloudfront.net/2025/12/05/20/31/42/2b2fae9a-6b70-40ff-8186-5d4b7073ab
 4c/Untitled%20design%20(5).png
END:VEVENT
END:VCALENDAR
