BEGIN:VCALENDAR
VERSION:2.0
PRODID:icalendar-ruby
CALSCALE:GREGORIAN
METHOD:PUBLISH
BEGIN:VEVENT
DTSTAMP:20260425T152625Z
UID:51-355061@cornerstoneseagrove.com
DTSTART:20260705T230000Z
DTEND:20260706T000000Z
CLASS:PUBLIC
CREATED:20260425T093710
DESCRIPTION:Table Gatherings are small discipleship groups designed to help
  believers grow closer to Jesus and to one another. Join this group on Fri
 days at 5:00pm for fellowship\, Bible study\, and prayer.
LAST-MODIFIED:20260425T093710
LOCATION:
SUMMARY:Sunday Table Gathering
URL;VALUE=URI:https://www.cornerstoneseagrove.com/events/sunday-table-gathe
 ring/2026-07-05
ATTACH;FILENAME=Friday Table Gathering & YouthCancellation (Presentation).p
 ng;FMTTYPE=image/png:https://dq5pwpg1q8ru0.cloudfront.net/2025/12/05/18/56
 /50/af2d16b6-0995-4a21-b197-482e32905b5b/Friday%20Table%20Gathering%20&%20
 YouthCancellation%20(Presentation).png
END:VEVENT
END:VCALENDAR
