BEGIN:VCALENDAR
VERSION:2.0
PRODID:icalendar-ruby
CALSCALE:GREGORIAN
METHOD:PUBLISH
BEGIN:VEVENT
DTSTAMP:20260421T203252Z
UID:51-349443@cornerstoneseagrove.com
DTSTART:20260911T230000Z
DTEND:20260912T000000Z
CLASS:PUBLIC
CREATED:20260421T144520
DESCRIPTION:Table Gatherings are small discipleship groups designed to help
  believers grow closer to Jesus and to one another. Join this group on Tue
 sdays at 10:30am for fellowship\, Bible study\, and prayer.
LAST-MODIFIED:20260421T144520
LOCATION:
SUMMARY:Friday Table Gathering
URL;VALUE=URI:https://www.cornerstoneseagrove.com/events/friday-table-gathe
 ring--51/2026-09-11
ATTACH;FILENAME=Friday Table Gathering & YouthCancellation (Presentation).p
 ng;FMTTYPE=image/png:https://dq5pwpg1q8ru0.cloudfront.net/2025/12/05/18/56
 /50/af2d16b6-0995-4a21-b197-482e32905b5b/Friday%20Table%20Gathering%20&%20
 YouthCancellation%20(Presentation).png
END:VEVENT
END:VCALENDAR
